BEGIN:VCALENDAR
VERSION:2.0
PRODID:-//IMI - ECPv6.15.13.1//NONSGML v1.0//EN
CALSCALE:GREGORIAN
METHOD:PUBLISH
X-WR-CALNAME:IMI
X-ORIGINAL-URL:https://imifondamental.be
X-WR-CALDESC:Évènements pour IMI
REFRESH-INTERVAL;VALUE=DURATION:PT1H
X-Robots-Tag:noindex
X-PUBLISHED-TTL:PT1H
BEGIN:VTIMEZONE
TZID:Europe/Zurich
BEGIN:DAYLIGHT
TZOFFSETFROM:+0100
TZOFFSETTO:+0200
TZNAME:CEST
DTSTART:20250330T010000
END:DAYLIGHT
BEGIN:STANDARD
TZOFFSETFROM:+0200
TZOFFSETTO:+0100
TZNAME:CET
DTSTART:20251026T010000
END:STANDARD
BEGIN:DAYLIGHT
TZOFFSETFROM:+0100
TZOFFSETTO:+0200
TZNAME:CEST
DTSTART:20260329T010000
END:DAYLIGHT
BEGIN:STANDARD
TZOFFSETFROM:+0200
TZOFFSETTO:+0100
TZNAME:CET
DTSTART:20261025T010000
END:STANDARD
BEGIN:DAYLIGHT
TZOFFSETFROM:+0100
TZOFFSETTO:+0200
TZNAME:CEST
DTSTART:20270328T010000
END:DAYLIGHT
BEGIN:STANDARD
TZOFFSETFROM:+0200
TZOFFSETTO:+0100
TZNAME:CET
DTSTART:20271031T010000
END:STANDARD
END:VTIMEZONE
BEGIN:VEVENT
DTSTART;VALUE=DATE:20260604
DTEND;VALUE=DATE:20260605
DTSTAMP:20260419T182359
CREATED:20260109T085412Z
LAST-MODIFIED:20260109T085758Z
UID:18116-1780531200-1780617599@imifondamental.be
SUMMARY:Piscine pour les P1C / P2C / P3I / P4I / P5I / P6I
DESCRIPTION:
URL:https://imifondamental.be/agenda/piscine-pour-les-p1c-p2c-p3i-p4i-p5i-p6i-5/
CATEGORIES:Activités
ATTACH;FMTTYPE=image/jpeg:https://imifondamental.be/wp-content/uploads/2026/01/9426339.jpg
END:VEVENT
END:VCALENDAR