BEGIN:VCALENDAR
VERSION:2.0
PRODID:-//IMI - ECPv6.15.13.1//NONSGML v1.0//EN
CALSCALE:GREGORIAN
METHOD:PUBLISH
X-ORIGINAL-URL:https://imifondamental.be
X-WR-CALDESC:Évènements pour IMI
REFRESH-INTERVAL;VALUE=DURATION:PT1H
X-Robots-Tag:noindex
X-PUBLISHED-TTL:PT1H
BEGIN:VTIMEZONE
TZID:Europe/Zurich
BEGIN:DAYLIGHT
TZOFFSETFROM:+0100
TZOFFSETTO:+0200
TZNAME:CEST
DTSTART:20250330T010000
END:DAYLIGHT
BEGIN:STANDARD
TZOFFSETFROM:+0200
TZOFFSETTO:+0100
TZNAME:CET
DTSTART:20251026T010000
END:STANDARD
BEGIN:DAYLIGHT
TZOFFSETFROM:+0100
TZOFFSETTO:+0200
TZNAME:CEST
DTSTART:20260329T010000
END:DAYLIGHT
BEGIN:STANDARD
TZOFFSETFROM:+0200
TZOFFSETTO:+0100
TZNAME:CET
DTSTART:20261025T010000
END:STANDARD
BEGIN:DAYLIGHT
TZOFFSETFROM:+0100
TZOFFSETTO:+0200
TZNAME:CEST
DTSTART:20270328T010000
END:DAYLIGHT
BEGIN:STANDARD
TZOFFSETFROM:+0200
TZOFFSETTO:+0100
TZNAME:CET
DTSTART:20271031T010000
END:STANDARD
END:VTIMEZONE
BEGIN:VEVENT
DTSTART;VALUE=DATE:20260703
DTEND;VALUE=DATE:20260704
DTSTAMP:20260423T194837
CREATED:20250515T085816Z
LAST-MODIFIED:20260108T135227Z
UID:17673-1783036800-1783123199@imifondamental.be
SUMMARY:Fin des cours à 12h05
DESCRIPTION:ATTENTION pas de garderie l’après-midi
URL:https://imifondamental.be/agenda/fin-des-cours-a-12h05/
CATEGORIES:Congé
ATTACH;FMTTYPE=image/png:https://imifondamental.be/wp-content/uploads/2025/05/Bonnes-Vacances.png
END:VEVENT
END:VCALENDAR